Package: biocmake Version: 1.0.1 Command: /home/biocbuild/R/R/bin/R CMD build --keep-empty-dirs --no-resave-data biocmake StartedAt: 2025-10-02 23:05:15 -0000 (Thu, 02 Oct 2025) EndedAt: 2025-10-02 23:05:21 -0000 (Thu, 02 Oct 2025) EllapsedTime: 6.0 seconds RetCode: 0 Status: OK PackageFile: biocmake_1.0.1.tar.gz PackageFileSize: 246.9 KiB