Package: biocmake Version: 1.0.1 Command: /Library/Frameworks/R.framework/Resources/bin/R CMD build --keep-empty-dirs --no-resave-data biocmake StartedAt: 2025-10-13 19:59:34 -0400 (Mon, 13 Oct 2025) EndedAt: 2025-10-13 19:59:44 -0400 (Mon, 13 Oct 2025) EllapsedTime: 10.2 seconds RetCode: 0 Status: OK PackageFile: biocmake_1.0.1.tar.gz PackageFileSize: 222.6 KiB