Package: biocmake Version: 1.0.1 Command: rm -rf biocmake.buildbin-libdir && mkdir biocmake.buildbin-libdir && /Users/biocbuild/BBS/utils/build-universal.sh biocmake_1.0.1.tar.gz /Library/Frameworks/R.framework/Resources/bin/R biocmake.buildbin-libdir StartedAt: 2025-10-15 17:35:57 -0400 (Wed, 15 Oct 2025) EndedAt: 2025-10-15 17:36:02 -0400 (Wed, 15 Oct 2025) EllapsedTime: 4.6 seconds RetCode: 0 Status: OK PackageFile: biocmake_1.0.1.tgz PackageFileSize: 241.8 KiB