Package: biocViews Version: 1.78.0 Command: /home/biocbuild/R/R/bin/R CMD INSTALL biocViews StartedAt: 2025-11-13 21:20:41 -0000 (Thu, 13 Nov 2025) EndedAt: 2025-11-13 21:20:53 -0000 (Thu, 13 Nov 2025) EllapsedTime: 11.6 seconds RetCode: 0 Status: OK