Package: biocViews Version: 1.78.0 Command: /home/biocbuild/R/R/bin/R CMD build --keep-empty-dirs --no-resave-data biocViews StartedAt: 2025-11-11 00:01:29 -0000 (Tue, 11 Nov 2025) EndedAt: 2025-11-11 00:01:51 -0000 (Tue, 11 Nov 2025) EllapsedTime: 22.0 seconds RetCode: 0 Status: OK PackageFile: biocViews_1.78.0.tar.gz PackageFileSize: 559.5 KiB