Package: biocViews Version: 1.78.0 Command: /home/biocbuild/bbs-3.22-bioc/R/bin/R CMD check --install=check:biocViews.install-out.txt --library=/home/biocbuild/bbs-3.22-bioc/R/site-library --timings biocViews_1.78.0.tar.gz StartedAt: 2025-11-11 21:38:55 -0500 (Tue, 11 Nov 2025) EndedAt: 2025-11-11 21:40:09 -0500 (Tue, 11 Nov 2025) EllapsedTime: 74.1 seconds RetCode: 0 Status: OK CheckDir: biocViews.Rcheck Warnings: 0