Package: biocViews Version: 1.76.0 Command: /home/biocbuild/bbs-3.21-bioc/R/bin/R CMD INSTALL biocViews StartedAt: 2025-10-08 15:13:51 -0400 (Wed, 08 Oct 2025) EndedAt: 2025-10-08 15:14:00 -0400 (Wed, 08 Oct 2025) EllapsedTime: 8.6 seconds RetCode: 0 Status: OK