Package: biocViews Version: 1.76.0 Command: /Library/Frameworks/R.framework/Resources/bin/R CMD INSTALL biocViews StartedAt: 2025-10-13 15:24:32 -0400 (Mon, 13 Oct 2025) EndedAt: 2025-10-13 15:24:54 -0400 (Mon, 13 Oct 2025) EllapsedTime: 21.7 seconds RetCode: 0 Status: OK