Package: biocViews Version: 1.76.0 Command: rm -rf biocViews.buildbin-libdir && mkdir biocViews.buildbin-libdir && /Users/biocbuild/BBS/utils/build-universal.sh biocViews_1.76.0.tar.gz /Library/Frameworks/R.framework/Resources/bin/R biocViews.buildbin-libdir StartedAt: 2025-10-14 12:55:24 -0400 (Tue, 14 Oct 2025) EndedAt: 2025-10-14 12:55:46 -0400 (Tue, 14 Oct 2025) EllapsedTime: 21.4 seconds RetCode: 0 Status: OK PackageFile: biocViews_1.76.0.tgz PackageFileSize: 889.5 KiB