Package: biocViews Version: 1.76.0 Command: /home/biocbuild/R/R/bin/R CMD INSTALL biocViews StartedAt: 2025-09-25 20:27:04 -0000 (Thu, 25 Sep 2025) EndedAt: 2025-09-25 20:27:16 -0000 (Thu, 25 Sep 2025) EllapsedTime: 11.2 seconds RetCode: 0 Status: OK