Package: biocViews Version: 1.76.0 Command: /Library/Frameworks/R.framework/Resources/bin/R CMD INSTALL biocViews StartedAt: 2025-10-06 15:38:39 -0400 (Mon, 06 Oct 2025) EndedAt: 2025-10-06 15:38:50 -0400 (Mon, 06 Oct 2025) EllapsedTime: 10.6 seconds RetCode: 0 Status: OK