Package: biocViews Version: 1.76.0 Command: /Library/Frameworks/R.framework/Resources/bin/R CMD build --keep-empty-dirs --no-resave-data biocViews StartedAt: 2025-10-06 20:13:51 -0400 (Mon, 06 Oct 2025) EndedAt: 2025-10-06 20:14:10 -0400 (Mon, 06 Oct 2025) EllapsedTime: 19.2 seconds RetCode: 0 Status: OK PackageFile: biocViews_1.76.0.tar.gz PackageFileSize: 506.9 KiB