Package: biocGraph Version: 1.72.0 Command: /home/biocbuild/R/R/bin/R CMD INSTALL biocGraph StartedAt: 2025-11-13 21:36:38 -0000 (Thu, 13 Nov 2025) EndedAt: 2025-11-13 21:36:56 -0000 (Thu, 13 Nov 2025) EllapsedTime: 18.5 seconds RetCode: 0 Status: OK