Package: biocGraph Version: 1.72.0 Command: /home/biocbuild/R/R/bin/R CMD build --keep-empty-dirs --no-resave-data biocGraph StartedAt: 2025-11-10 23:59:41 -0000 (Mon, 10 Nov 2025) EndedAt: 2025-11-11 00:00:13 -0000 (Tue, 11 Nov 2025) EllapsedTime: 32.0 seconds RetCode: 0 Status: OK PackageFile: biocGraph_1.72.0.tar.gz PackageFileSize: 717.1 KiB