Package: biocGraph Version: 1.72.0 Command: /home/biocbuild/bbs-3.22-bioc/R/bin/R CMD check --install=check:biocGraph.install-out.txt --library=/home/biocbuild/bbs-3.22-bioc/R/site-library --timings biocGraph_1.72.0.tar.gz StartedAt: 2025-11-11 21:36:53 -0500 (Tue, 11 Nov 2025) EndedAt: 2025-11-11 21:38:40 -0500 (Tue, 11 Nov 2025) EllapsedTime: 107.1 seconds RetCode: 0 Status: OK CheckDir: biocGraph.Rcheck Warnings: 0