Package: biobtreeR Version: 1.22.0 Command: /home/biocbuild/R/R/bin/R CMD build --keep-empty-dirs --no-resave-data biobtreeR StartedAt: 2025-11-21 00:41:42 -0000 (Fri, 21 Nov 2025) EndedAt: 2025-11-21 00:42:10 -0000 (Fri, 21 Nov 2025) EllapsedTime: 28.0 seconds RetCode: 1 Status: ERROR PackageFile: None PackageFileSize: NA