Package: biobtreeR Version: 1.22.0 Command: /home/biocbuild/bbs-3.22-bioc/R/bin/R CMD check --install=check:biobtreeR.install-out.txt --library=/home/biocbuild/bbs-3.22-bioc/R/site-library --timings biobtreeR_1.22.0.tar.gz StartedAt: 2025-11-13 21:33:41 -0500 (Thu, 13 Nov 2025) EndedAt: 2025-11-13 21:34:54 -0500 (Thu, 13 Nov 2025) EllapsedTime: 73.1 seconds RetCode: 0 Status: OK CheckDir: biobtreeR.Rcheck Warnings: 0