Package: biobtreeR Version: 1.20.0 Command: /home/biocbuild/bbs-3.21-bioc/R/bin/R CMD build --keep-empty-dirs --no-resave-data biobtreeR StartedAt: 2025-10-15 16:24:45 -0400 (Wed, 15 Oct 2025) EndedAt: 2025-10-15 16:25:38 -0400 (Wed, 15 Oct 2025) EllapsedTime: 53.0 seconds RetCode: 0 Status: OK PackageFile: biobtreeR_1.20.0.tar.gz PackageFileSize: 938.3 KiB