Package: biobtreeR Version: 1.22.0 Command: /Library/Frameworks/R.framework/Resources/bin/R CMD INSTALL biobtreeR StartedAt: 2025-10-31 15:15:35 -0400 (Fri, 31 Oct 2025) EndedAt: 2025-10-31 15:16:04 -0400 (Fri, 31 Oct 2025) EllapsedTime: 28.3 seconds RetCode: 0 Status: OK