Package: biobtreeR Version: 1.22.0 Command: rm -rf biobtreeR.buildbin-libdir && mkdir biobtreeR.buildbin-libdir && /Users/biocbuild/BBS/utils/build-universal.sh biobtreeR_1.22.0.tar.gz /Library/Frameworks/R.framework/Resources/bin/R biobtreeR.buildbin-libdir StartedAt: 2025-11-04 01:29:30 -0500 (Tue, 04 Nov 2025) EndedAt: 2025-11-04 01:29:37 -0500 (Tue, 04 Nov 2025) EllapsedTime: 7.0 seconds RetCode: 0 Status: OK PackageFile: biobtreeR_1.22.0.tgz PackageFileSize: 979.3 KiB