Package: biobtreeR Version: 1.20.0 Command: /home/biocbuild/R/R/bin/R CMD INSTALL biobtreeR StartedAt: 2025-09-29 20:15:24 -0000 (Mon, 29 Sep 2025) EndedAt: 2025-09-29 20:15:47 -0000 (Mon, 29 Sep 2025) EllapsedTime: 23.1 seconds RetCode: 0 Status: OK