Package: biobtreeR Version: 1.20.0 Command: /home/biocbuild/R/R/bin/R CMD build --keep-empty-dirs --no-resave-data biobtreeR StartedAt: 2025-10-02 23:03:04 -0000 (Thu, 02 Oct 2025) EndedAt: 2025-10-02 23:03:34 -0000 (Thu, 02 Oct 2025) EllapsedTime: 30.0 seconds RetCode: 1 Status: ERROR PackageFile: None PackageFileSize: NA