Package: bioassayR Version: 1.48.0 Command: /home/biocbuild/bbs-3.22-bioc/R/bin/R CMD build --keep-empty-dirs --no-resave-data --md5 bioassayR StartedAt: 2025-11-11 16:32:14 -0500 (Tue, 11 Nov 2025) EndedAt: 2025-11-11 16:32:59 -0500 (Tue, 11 Nov 2025) EllapsedTime: 45.0 seconds RetCode: 0 Status: OK PackageFile: bioassayR_1.48.0.tar.gz PackageFileSize: 1.531 MiB