Package: bioassayR Version: 1.48.0 Command: /Library/Frameworks/R.framework/Resources/bin/R CMD INSTALL bioassayR StartedAt: 2025-11-06 15:06:54 -0500 (Thu, 06 Nov 2025) EndedAt: 2025-11-06 15:06:59 -0500 (Thu, 06 Nov 2025) EllapsedTime: 5.0 seconds RetCode: 0 Status: OK