Package: bioassayR Version: 1.48.0 Command: /Library/Frameworks/R.framework/Resources/bin/R CMD build --keep-empty-dirs --no-resave-data bioassayR StartedAt: 2025-11-06 15:45:18 -0500 (Thu, 06 Nov 2025) EndedAt: 2025-11-06 15:45:37 -0500 (Thu, 06 Nov 2025) EllapsedTime: 19.2 seconds RetCode: 0 Status: OK PackageFile: bioassayR_1.48.0.tar.gz PackageFileSize: 1.421 MiB