Package: bioassayR Version: 1.48.0 Command: rm -rf bioassayR.buildbin-libdir && mkdir bioassayR.buildbin-libdir && /Users/biocbuild/BBS/utils/build-universal.sh bioassayR_1.48.0.tar.gz /Library/Frameworks/R.framework/Resources/bin/R bioassayR.buildbin-libdir StartedAt: 2025-11-06 22:57:15 -0500 (Thu, 06 Nov 2025) EndedAt: 2025-11-06 22:57:21 -0500 (Thu, 06 Nov 2025) EllapsedTime: 6.1 seconds RetCode: 0 Status: OK PackageFile: bioassayR_1.48.0.tgz PackageFileSize: 1.039 MiB