Package: bioDist Version: 1.82.0 Command: /home/biocbuild/bbs-3.22-bioc/R/bin/R CMD check --install=check:bioDist.install-out.txt --library=/home/biocbuild/bbs-3.22-bioc/R/site-library --timings bioDist_1.82.0.tar.gz StartedAt: 2025-11-13 21:37:31 -0500 (Thu, 13 Nov 2025) EndedAt: 2025-11-13 21:38:26 -0500 (Thu, 13 Nov 2025) EllapsedTime: 55.1 seconds RetCode: 0 Status: OK CheckDir: bioDist.Rcheck Warnings: 0