Package: bioDist Version: 1.80.0 Command: /home/biocbuild/bbs-3.21-bioc/R/bin/R CMD build --keep-empty-dirs --no-resave-data bioDist StartedAt: 2025-10-15 16:27:01 -0400 (Wed, 15 Oct 2025) EndedAt: 2025-10-15 16:27:17 -0400 (Wed, 15 Oct 2025) EllapsedTime: 16.0 seconds RetCode: 0 Status: OK PackageFile: bioDist_1.80.0.tar.gz PackageFileSize: 204.9 KiB