Package: bioDist Version: 1.82.0 Command: /Library/Frameworks/R.framework/Resources/bin/R CMD build --keep-empty-dirs --no-resave-data bioDist StartedAt: 2025-10-30 16:10:13 -0400 (Thu, 30 Oct 2025) EndedAt: 2025-10-30 16:10:36 -0400 (Thu, 30 Oct 2025) EllapsedTime: 22.9 seconds RetCode: 0 Status: OK PackageFile: bioDist_1.82.0.tar.gz PackageFileSize: 204.3 KiB