Package: bioDist Version: 1.82.0 Command: rm -rf bioDist.buildbin-libdir && mkdir bioDist.buildbin-libdir && /Users/biocbuild/BBS/utils/build-universal.sh bioDist_1.82.0.tar.gz /Library/Frameworks/R.framework/Resources/bin/R bioDist.buildbin-libdir StartedAt: 2025-10-31 01:14:45 -0400 (Fri, 31 Oct 2025) EndedAt: 2025-10-31 01:14:52 -0400 (Fri, 31 Oct 2025) EllapsedTime: 7.0 seconds RetCode: 0 Status: OK PackageFile: bioDist_1.82.0.tgz PackageFileSize: 254.6 KiB