Package: bioDist Version: 1.80.0 Command: /home/biocbuild/R/R/bin/R CMD build --keep-empty-dirs --no-resave-data bioDist StartedAt: 2025-10-02 23:09:30 -0000 (Thu, 02 Oct 2025) EndedAt: 2025-10-02 23:09:51 -0000 (Thu, 02 Oct 2025) EllapsedTime: 21.0 seconds RetCode: 0 Status: OK PackageFile: bioDist_1.80.0.tar.gz PackageFileSize: 197.3 KiB