Package: bioCancer Version: 1.38.0 Command: /home/biocbuild/bbs-3.22-bioc/R/bin/R CMD INSTALL bioCancer StartedAt: 2025-11-11 16:03:33 -0500 (Tue, 11 Nov 2025) EndedAt: 2025-11-11 16:04:27 -0500 (Tue, 11 Nov 2025) EllapsedTime: 53.7 seconds RetCode: 0 Status: OK