Package: bioCancer Version: 1.38.0 Command: /home/biocbuild/bbs-3.22-bioc/R/bin/R CMD check --install=check:bioCancer.install-out.txt --library=/home/biocbuild/bbs-3.22-bioc/R/site-library --timings bioCancer_1.38.0.tar.gz StartedAt: 2025-11-11 21:35:39 -0500 (Tue, 11 Nov 2025) EndedAt: 2025-11-11 21:42:08 -0500 (Tue, 11 Nov 2025) EllapsedTime: 389.5 seconds RetCode: 0 Status: OK CheckDir: bioCancer.Rcheck Warnings: 0