Package: bioCancer Version: 1.38.0 Command: /home/biocbuild/bbs-3.22-bioc/R/bin/R CMD build --keep-empty-dirs --no-resave-data --md5 bioCancer StartedAt: 2025-11-11 16:32:59 -0500 (Tue, 11 Nov 2025) EndedAt: 2025-11-11 16:33:54 -0500 (Tue, 11 Nov 2025) EllapsedTime: 55.1 seconds RetCode: 0 Status: OK PackageFile: bioCancer_1.38.0.tar.gz PackageFileSize: 9.465 MiB