Package: bioCancer Version: 1.36.0 Command: /Library/Frameworks/R.framework/Resources/bin/R CMD INSTALL bioCancer StartedAt: 2025-10-13 18:27:44 -0400 (Mon, 13 Oct 2025) EndedAt: 2025-10-13 18:28:49 -0400 (Mon, 13 Oct 2025) EllapsedTime: 64.8 seconds RetCode: 0 Status: OK