Package: bioCancer Version: 1.36.0 Command: /Library/Frameworks/R.framework/Resources/bin/R CMD build --keep-empty-dirs --no-resave-data bioCancer StartedAt: 2025-10-13 19:56:58 -0400 (Mon, 13 Oct 2025) EndedAt: 2025-10-13 19:58:08 -0400 (Mon, 13 Oct 2025) EllapsedTime: 70.0 seconds RetCode: 0 Status: OK PackageFile: bioCancer_1.36.0.tar.gz PackageFileSize: 9.459 MiB