Package: bioCancer Version: 1.36.0 Command: rm -rf bioCancer.buildbin-libdir && mkdir bioCancer.buildbin-libdir && /Users/biocbuild/BBS/utils/build-universal.sh bioCancer_1.36.0.tar.gz /Library/Frameworks/R.framework/Resources/bin/R bioCancer.buildbin-libdir StartedAt: 2025-10-15 17:35:17 -0400 (Wed, 15 Oct 2025) EndedAt: 2025-10-15 17:36:29 -0400 (Wed, 15 Oct 2025) EllapsedTime: 72.1 seconds RetCode: 0 Status: OK PackageFile: bioCancer_1.36.0.tgz PackageFileSize: 7.421 MiB