Package: bigmelon Version: 1.36.0 Command: /home/biocbuild/bbs-3.22-bioc/R/bin/R CMD INSTALL bigmelon StartedAt: 2025-11-11 16:07:28 -0500 (Tue, 11 Nov 2025) EndedAt: 2025-11-11 16:08:20 -0500 (Tue, 11 Nov 2025) EllapsedTime: 52.3 seconds RetCode: 0 Status: OK