Package: bigmelon Version: 1.36.0 Command: /home/biocbuild/bbs-3.22-bioc/R/bin/R CMD check --install=check:bigmelon.install-out.txt --library=/home/biocbuild/bbs-3.22-bioc/R/site-library --timings bigmelon_1.36.0.tar.gz StartedAt: 2025-11-13 21:32:29 -0500 (Thu, 13 Nov 2025) EndedAt: 2025-11-13 21:40:18 -0500 (Thu, 13 Nov 2025) EllapsedTime: 469.6 seconds RetCode: 0 Status: WARNINGS CheckDir: bigmelon.Rcheck Warnings: 5