Package: bigmelon Version: 1.36.0 Command: /home/biocbuild/bbs-3.22-bioc/R/bin/R CMD build --keep-empty-dirs --no-resave-data --md5 bigmelon StartedAt: 2025-11-11 16:31:53 -0500 (Tue, 11 Nov 2025) EndedAt: 2025-11-11 16:33:14 -0500 (Tue, 11 Nov 2025) EllapsedTime: 81.1 seconds RetCode: 0 Status: OK PackageFile: bigmelon_1.36.0.tar.gz PackageFileSize: 903.2 KiB