Package: bigmelon Version: 1.34.0 Command: /home/biocbuild/bbs-3.21-bioc/R/bin/R CMD INSTALL bigmelon StartedAt: 2025-10-15 16:01:29 -0400 (Wed, 15 Oct 2025) EndedAt: 2025-10-15 16:02:21 -0400 (Wed, 15 Oct 2025) EllapsedTime: 51.9 seconds RetCode: 0 Status: OK