Package: bigmelon Version: 1.34.0 Command: /Library/Frameworks/R.framework/Resources/bin/R CMD INSTALL bigmelon StartedAt: 2025-10-13 18:37:11 -0400 (Mon, 13 Oct 2025) EndedAt: 2025-10-13 18:38:18 -0400 (Mon, 13 Oct 2025) EllapsedTime: 66.9 seconds RetCode: 0 Status: OK