Package: bigmelon Version: 1.34.0 Command: /Library/Frameworks/R.framework/Resources/bin/R CMD build --keep-empty-dirs --no-resave-data bigmelon StartedAt: 2025-10-13 19:54:47 -0400 (Mon, 13 Oct 2025) EndedAt: 2025-10-13 19:56:32 -0400 (Mon, 13 Oct 2025) EllapsedTime: 105.1 seconds RetCode: 0 Status: OK PackageFile: bigmelon_1.34.0.tar.gz PackageFileSize: 901.6 KiB