Package: bgx Version: 1.76.0 Command: /home/biocbuild/bbs-3.22-bioc/R/bin/R CMD build --keep-empty-dirs --no-resave-data --md5 bgx StartedAt: 2025-11-13 16:28:15 -0500 (Thu, 13 Nov 2025) EndedAt: 2025-11-13 16:28:45 -0500 (Thu, 13 Nov 2025) EllapsedTime: 30.0 seconds RetCode: 1 Status: ERROR PackageFile: None PackageFileSize: NA