Package: bgx Version: 1.76.0 Command: /Library/Frameworks/R.framework/Resources/bin/R CMD INSTALL bgx StartedAt: 2025-11-10 15:08:10 -0500 (Mon, 10 Nov 2025) EndedAt: 2025-11-10 15:08:21 -0500 (Mon, 10 Nov 2025) EllapsedTime: 11.2 seconds RetCode: 0 Status: OK