Package: bgx Version: 1.76.0 Command: /Library/Frameworks/R.framework/Resources/bin/R CMD build --keep-empty-dirs --no-resave-data bgx StartedAt: 2025-11-10 15:44:48 -0500 (Mon, 10 Nov 2025) EndedAt: 2025-11-10 15:45:11 -0500 (Mon, 10 Nov 2025) EllapsedTime: 23.2 seconds RetCode: 0 Status: OK PackageFile: bgx_1.76.0.tar.gz PackageFileSize: 2.62 MiB