Package: bgx Version: 1.76.0 Command: rm -rf bgx.buildbin-libdir && mkdir bgx.buildbin-libdir && /Users/biocbuild/BBS/utils/build-universal.sh bgx_1.76.0.tar.gz /Library/Frameworks/R.framework/Resources/bin/R bgx.buildbin-libdir StartedAt: 2025-11-10 23:12:26 -0500 (Mon, 10 Nov 2025) EndedAt: 2025-11-10 23:12:39 -0500 (Mon, 10 Nov 2025) EllapsedTime: 13.2 seconds RetCode: 0 Status: OK PackageFile: bgx_1.76.0.tgz PackageFileSize: 393.1 KiB