Package: betaHMM Version: 1.6.0 Command: /home/biocbuild/bbs-3.22-bioc/R/bin/R CMD check --install=check:betaHMM.install-out.txt --library=/home/biocbuild/bbs-3.22-bioc/R/site-library --timings betaHMM_1.6.0.tar.gz StartedAt: 2025-11-16 21:34:30 -0500 (Sun, 16 Nov 2025) EndedAt: 2025-11-16 21:48:25 -0500 (Sun, 16 Nov 2025) EllapsedTime: 834.9 seconds RetCode: 0 Status: OK CheckDir: betaHMM.Rcheck Warnings: 0