Package: betaHMM Version: 1.6.0 Command: /Library/Frameworks/R.framework/Resources/bin/R CMD INSTALL betaHMM StartedAt: 2025-11-03 15:24:23 -0500 (Mon, 03 Nov 2025) EndedAt: 2025-11-03 15:24:59 -0500 (Mon, 03 Nov 2025) EllapsedTime: 35.5 seconds RetCode: 0 Status: OK