Package: betaHMM Version: 1.6.0 Command: rm -rf betaHMM.buildbin-libdir && mkdir betaHMM.buildbin-libdir && /Users/biocbuild/BBS/utils/build-universal.sh betaHMM_1.6.0.tar.gz /Library/Frameworks/R.framework/Resources/bin/R betaHMM.buildbin-libdir StartedAt: 2025-11-04 01:29:15 -0500 (Tue, 04 Nov 2025) EndedAt: 2025-11-04 01:29:57 -0500 (Tue, 04 Nov 2025) EllapsedTime: 42.1 seconds RetCode: 0 Status: OK PackageFile: betaHMM_1.6.0.tgz PackageFileSize: 3.923 MiB